BEGIN:VCALENDAR
VERSION:2.0
PRODID:-//wp-events-plugin.com//7.2.3.1//EN
TZID:Europe/Berlin
X-WR-TIMEZONE:Europe/Berlin
BEGIN:VEVENT
UID:139@dghk-sh.info
DTSTART;TZID=Europe/Berlin:20260224T193000
DTEND;TZID=Europe/Berlin:20260224T220000
DTSTAMP:20251229T181643Z
URL:https://dghk-sh.info/events/eg-ahrensburg-2026-02-24/
SUMMARY:EG Ahrensburg
DESCRIPTION:Liebe Eltern\,\n\nwir treffen uns wie immer bei mir zu Hause.\n
 \nBitte meldet euch über das Kontaktformular oder per WhatsApp\, wenn ihr
  dabei sein möchtet.
CATEGORIES:Elterngruppe
LOCATION:Elterngruppe Ahrensburg\, Hufeisenring 2a\, Bargteheide\, 22941\, 
 Deutschland
GEO:53.736549;10.249883
X-APPLE-STRUCTURED-LOCATION;VALUE=URI;X-ADDRESS=Hufeisenring 2a\, Bargtehei
 de\, 22941\, Deutschland;X-APPLE-RADIUS=100;X-TITLE=Elterngruppe Ahrensbur
 g:geo:53.736549,10.249883
END:VEVENT
BEGIN:VTIMEZONE
TZID:Europe/Berlin
X-LIC-LOCATION:Europe/Berlin
BEGIN:STANDARD
DTSTART:20251026T020000
TZOFFSETFROM:+0200
TZOFFSETTO:+0100
TZNAME:CET
END:STANDARD
END:VTIMEZONE
END:VCALENDAR