BEGIN:VCALENDAR
VERSION:2.0
PRODID:-//wp-events-plugin.com//7.2.3.1//EN
TZID:Europe/Berlin
X-WR-TIMEZONE:Europe/Berlin
BEGIN:VEVENT
UID:163@dghk-sh.info
DTSTART;TZID=Europe/Berlin:20261116T193000
DTEND;TZID=Europe/Berlin:20261116T213000
DTSTAMP:20260316T095655Z
URL:https://dghk-sh.info/events/eg-guester-2026-05-28-2026-07-01-2026-09-1
 5-2026-11-16/
SUMMARY:EG Güster
DESCRIPTION:Bitte melde dich über das Kontaktformular an.
CATEGORIES:Elterngruppe
LOCATION:Elterngruppe Güster\, Am Dorfplatz 7\, Güster\, 21514\, Deutschl
 and
GEO:53.540277;10.683381
X-APPLE-STRUCTURED-LOCATION;VALUE=URI;X-ADDRESS=Am Dorfplatz 7\, Güster\, 
 21514\, Deutschland;X-APPLE-RADIUS=100;X-TITLE=Elterngruppe Güster:geo:53
 .540277,10.683381
END:VEVENT
BEGIN:VTIMEZONE
TZID:Europe/Berlin
X-LIC-LOCATION:Europe/Berlin
BEGIN:STANDARD
DTSTART:20261025T020000
TZOFFSETFROM:+0200
TZOFFSETTO:+0100
TZNAME:CET
END:STANDARD
END:VTIMEZONE
END:VCALENDAR