BEGIN:VCALENDAR
VERSION:2.0
PRODID:-//wp-events-plugin.com//7.2.3.1//EN
TZID:Europe/Berlin
X-WR-TIMEZONE:Europe/Berlin
BEGIN:VEVENT
UID:160@dghk-sh.info
DTSTART;TZID=Europe/Berlin:20260528T193000
DTEND;TZID=Europe/Berlin:20260528T213000
DTSTAMP:20260316T095655Z
URL:https://dghk-sh.info/events/eg-guester-2026-05-28/
SUMMARY:EG Güster
DESCRIPTION:Bitte melde dich über das Kontaktformular an.
CATEGORIES:Elterngruppe
LOCATION:Elterngruppe Güster\, Am Dorfplatz 7\, Güster\, 21514\, Deutschl
 and
GEO:53.540277;10.683381
X-APPLE-STRUCTURED-LOCATION;VALUE=URI;X-ADDRESS=Am Dorfplatz 7\, Güster\, 
 21514\, Deutschland;X-APPLE-RADIUS=100;X-TITLE=Elterngruppe Güster:geo:53
 .540277,10.683381
END:VEVENT
BEGIN:VTIMEZONE
TZID:Europe/Berlin
X-LIC-LOCATION:Europe/Berlin
BEGIN:DAYLIGHT
DTSTART:20260329T030000
TZOFFSETFROM:+0100
TZOFFSETTO:+0200
TZNAME:CEST
END:DAYLIGHT
END:VTIMEZONE
END:VCALENDAR