BEGIN:VCALENDAR
VERSION:2.0
PRODID:-//wp-events-plugin.com//7.2.3.1//EN
TZID:Europe/Berlin
X-WR-TIMEZONE:Europe/Berlin
BEGIN:VEVENT
UID:118@dghk-sh.info
DTSTART;TZID=Europe/Berlin:20200201T193000
DTEND;TZID=Europe/Berlin:20200201T213000
DTSTAMP:20251206T171343Z
URL:https://dghk-sh.info/events/eg-luebeck-2-2020-02-01/
SUMMARY:EG Lübeck
DESCRIPTION:Bitte melde dich über das Kontaktformular an.
CATEGORIES:Elterngruppe
END:VEVENT
BEGIN:VTIMEZONE
TZID:Europe/Berlin
X-LIC-LOCATION:Europe/Berlin
BEGIN:STANDARD
DTSTART:20191027T020000
TZOFFSETFROM:+0200
TZOFFSETTO:+0100
TZNAME:CET
END:STANDARD
END:VTIMEZONE
END:VCALENDAR