BEGIN:VCALENDAR
VERSION:2.0
PRODID:-//wp-events-plugin.com//7.2.3.1//EN
TZID:Europe/Berlin
X-WR-TIMEZONE:Europe/Berlin
BEGIN:VEVENT
UID:158@dghk-sh.info
DTSTART;TZID=Europe/Berlin:20260609T193000
DTEND;TZID=Europe/Berlin:20260609T213000
DTSTAMP:20260119T185536Z
URL:https://dghk-sh.info/events/eg-norderstedter-luchse-2026-01-27-2026-02
 -24-2026-04-28-2026-05-19-2026-06-09/
SUMMARY:EG Norderstedter Luchse
DESCRIPTION:NEU: von 19 - 19:30 Uhr Stöbern in den ausleihbaren Büchern\n
 \nBitte melde dich über das Anmeldeformular an.
CATEGORIES:Elterngruppe
LOCATION:OGGS Heidberg (Mensa)\, Heidbergstr 89\, Norderstedt\, 22846\, Deu
 tschland
GEO:53.706429;9.990919
X-APPLE-STRUCTURED-LOCATION;VALUE=URI;X-ADDRESS=Heidbergstr 89\, Nordersted
 t\, 22846\, Deutschland;X-APPLE-RADIUS=100;X-TITLE=OGGS Heidberg (Mensa):g
 eo:53.706429,9.990919
END:VEVENT
BEGIN:VTIMEZONE
TZID:Europe/Berlin
X-LIC-LOCATION:Europe/Berlin
BEGIN:DAYLIGHT
DTSTART:20260329T030000
TZOFFSETFROM:+0100
TZOFFSETTO:+0200
TZNAME:CEST
END:DAYLIGHT
END:VTIMEZONE
END:VCALENDAR