BEGIN:VCALENDAR
VERSION:2.0
PRODID:-//wp-events-plugin.com//7.2.3.1//EN
TZID:Europe/Berlin
X-WR-TIMEZONE:Europe/Berlin
BEGIN:VEVENT
UID:86@dghk-sh.info
DTSTART;TZID=Europe/Berlin:20251105T193000
DTEND;TZID=Europe/Berlin:20251105T213000
DTSTAMP:20260107T150638Z
URL:https://dghk-sh.info/events/eg-ostholstein-2025-11-05/
SUMMARY:EG Ostholstein
DESCRIPTION:Ort: Eutin\, Adresse wird nach der Anmeldung bekannt gegeben\n\
 nBitte melde dich über das Kontaktformular an.
CATEGORIES:Elterngruppe
END:VEVENT
BEGIN:VTIMEZONE
TZID:Europe/Berlin
X-LIC-LOCATION:Europe/Berlin
BEGIN:STANDARD
DTSTART:20251026T020000
TZOFFSETFROM:+0200
TZOFFSETTO:+0100
TZNAME:CET
END:STANDARD
END:VTIMEZONE
END:VCALENDAR