BEGIN:VCALENDAR
VERSION:2.0
PRODID:-//wp-events-plugin.com//7.2.3.1//EN
TZID:Europe/Berlin
X-WR-TIMEZONE:Europe/Berlin
BEGIN:VEVENT
UID:144@dghk-sh.info
DTSTART;TZID=Europe/Berlin:20260319T200000
DTEND;TZID=Europe/Berlin:20260319T220000
DTSTAMP:20251230T134355Z
URL:https://dghk-sh.info/events/eg-pinneberg-2026-03-19/
SUMMARY:EG Pinneberg
DESCRIPTION:Bitte melde dich über das Kontaktformular an.
CATEGORIES:Elterngruppe
LOCATION:Johann-Comenius-Schule\, Horn 5\, 25421 Pinneberg\, Pinneberg\, 25
 421\, Deutschland
GEO:53.641049;9.813394
X-APPLE-STRUCTURED-LOCATION;VALUE=URI;X-ADDRESS=Horn 5\, 25421 Pinneberg\, 
 Pinneberg\, 25421\, Deutschland;X-APPLE-RADIUS=100;X-TITLE=Johann-Comenius
 -Schule:geo:53.641049,9.813394
END:VEVENT
BEGIN:VTIMEZONE
TZID:Europe/Berlin
X-LIC-LOCATION:Europe/Berlin
BEGIN:STANDARD
DTSTART:20251026T020000
TZOFFSETFROM:+0200
TZOFFSETTO:+0100
TZNAME:CET
END:STANDARD
END:VTIMEZONE
END:VCALENDAR