BEGIN:VCALENDAR
VERSION:2.0
PRODID:-//wp-events-plugin.com//7.2.3.1//EN
TZID:Europe/Berlin
X-WR-TIMEZONE:Europe/Berlin
BEGIN:VEVENT
UID:137@dghk-sh.info
DTSTART;TZID=Europe/Berlin:20260630T190000
DTEND;TZID=Europe/Berlin:20260630T210000
DTSTAMP:20251206T171508Z
URL:https://dghk-sh.info/events/eg-ploen-kiel-2026-06-30/
SUMMARY:EG Plön & Kiel
DESCRIPTION:Bitte melde dich über das Kontaktformular an.
CATEGORIES:Elterngruppe
LOCATION:Fachhochschule Kiel\, Sokratespl. 2\, Kiel\, 24149\, Deutschland
GEO:54.333514;10.180326
X-APPLE-STRUCTURED-LOCATION;VALUE=URI;X-ADDRESS=Sokratespl. 2\, Kiel\, 2414
 9\, Deutschland;X-APPLE-RADIUS=100;X-TITLE=Fachhochschule Kiel:geo:54.3335
 14,10.180326
END:VEVENT
BEGIN:VTIMEZONE
TZID:Europe/Berlin
X-LIC-LOCATION:Europe/Berlin
BEGIN:DAYLIGHT
DTSTART:20260329T030000
TZOFFSETFROM:+0100
TZOFFSETTO:+0200
TZNAME:CEST
END:DAYLIGHT
END:VTIMEZONE
END:VCALENDAR