BEGIN:VCALENDAR
VERSION:2.0
PRODID:-//wp-events-plugin.com//7.2.3.1//EN
TZID:Europe/Berlin
X-WR-TIMEZONE:Europe/Berlin
BEGIN:VEVENT
UID:159@dghk-sh.info
DTSTART;TZID=Europe/Berlin:20260418T143000
DTEND;TZID=Europe/Berlin:20260418T173000
DTSTAMP:20260305T180050Z
URL:https://dghk-sh.info/events/eg-quick-minds-sh-2026-04-18/
SUMMARY:Familientreffen Quick Minds SH
DESCRIPTION:Bitte melde dich über das Anmeldeformular an.
CATEGORIES:Elterngruppe
LOCATION:Elsensee‑Gymnasium Quickborn\, Heidkampstraße 10\, Quickborn\, 
 25451\, Deutschland
GEO:53.721797;9.906136
X-APPLE-STRUCTURED-LOCATION;VALUE=URI;X-ADDRESS=Heidkampstraße 10\, Quickb
 orn\, 25451\, Deutschland;X-APPLE-RADIUS=100;X-TITLE=Elsensee‑Gymnasium 
 Quickborn:geo:53.721797,9.906136
END:VEVENT
BEGIN:VTIMEZONE
TZID:Europe/Berlin
X-LIC-LOCATION:Europe/Berlin
BEGIN:DAYLIGHT
DTSTART:20260329T030000
TZOFFSETFROM:+0100
TZOFFSETTO:+0200
TZNAME:CEST
END:DAYLIGHT
END:VTIMEZONE
END:VCALENDAR