BEGIN:VCALENDAR
VERSION:2.0
PRODID:-//wp-events-plugin.com//7.2.3.1//EN
TZID:Europe/Berlin
X-WR-TIMEZONE:Europe/Berlin
BEGIN:VEVENT
UID:97@dghk-sh.info
DTSTART;TZID=Europe/Berlin:20200201T000000
DTEND;TZID=Europe/Berlin:20200201T000000
DTSTAMP:20250918T155339Z
URL:https://dghk-sh.info/events/eg-schleswig-flensburg-2020-01-01-2020-02-
 01/
SUMMARY:EG Schleswig-Flensburg
DESCRIPTION:
CATEGORIES:Elterngruppe
END:VEVENT
BEGIN:VTIMEZONE
TZID:Europe/Berlin
X-LIC-LOCATION:Europe/Berlin
BEGIN:STANDARD
DTSTART:20191027T020000
TZOFFSETFROM:+0200
TZOFFSETTO:+0100
TZNAME:CET
END:STANDARD
END:VTIMEZONE
END:VCALENDAR