BEGIN:VCALENDAR
VERSION:2.0
PRODID:-//wp-events-plugin.com//7.2.3.1//EN
TZID:Europe/Berlin
X-WR-TIMEZONE:Europe/Berlin
BEGIN:VEVENT
UID:121@dghk-sh.info
DTSTART;TZID=Europe/Berlin:20260123T163000
DTEND;TZID=Europe/Berlin:20260125T150000
DTSTAMP:20260112T182404Z
URL:https://dghk-sh.info/events/jugendwochenende/
SUMMARY:Jugendwochenende Januar 2026
DESCRIPTION:Das Freizeit-Wochenende für Jugendliche ab 7. Klasse in St. Pe
 ter-Ording unter der Leitung von Lucas Nerlich und Johanna Marquordt (Camp
 leitung) und Luna Voigt und Sascha Müller zum Hagen (Co-Campleitung) stat
 t.\nProgramm\nDas Konzept der Jugendfreizeit folgt dem Prinzip „peer to 
 peer“\, d.h. die jugendliche Campleitung wird unterstützt von zwei erwa
 chsenen Co-Campleitungen.\n\nWas ist geplant?\n\nFreitag: Anreise\, danach
  Kennenlernen mit Abendessen (Buffet\, jede / jeder bringt etwas Leckeres 
 mit).\nSamstag: Kurse (Fotografie\, Politik\, Tanzen)\nSonntag: Planung de
 r nächsten Veranstaltung\, Abreise nach dem Mittagessen\n\nBitte gebt bei
  der Anmeldung eure Erst- und Zweitwahl an.\nUnd außerdem sind am Samstag
  verschiedene Freizeitaktivitäten aller Art geplant\, unter anderem nach 
 dem Konzept „von Teilnehmenden für Teilnehmende“. Also\, seid kreativ
 !\nKursbeschreibung\nFotografie\nFotografie ist die Wissenschaften in Kuns
 t! In diesem Kurs kannst du Fotografie ausprobieren. Du wirst lernen wie L
 icht\, Blende und Optik zusammenwirken. Hier wird Physik greifbar und krea
 tiv erklärt mit echter Kamera in der Hand. Jetzt auch noch mal mit neuen 
 Themen. Wir freuen uns auf euch!\nJulius und Richard\n\nPolitik\nHey\, wir
  sind der Politikkurs. Du interessierst dich für Politik und/oder debatti
 erst gerne? Dann komm zu uns! Wir wollen euch politische Systeme näherbri
 ngen und ein Planspiel machen\, bei dem ihr die Staatschefs verschiedener 
 Fantasieländer verkörpert um durch Debatten und einzelne Verhandlungen z
 u Lösungen zu gelangen. Wir freuen uns auf euch.\n\nAleksi und Nelly\nTan
 zen\nHey\, in diesem Kurs wollen wir zusammen lernen wie man Discofox\, Wi
 ener Walzer oder auch andere coole Paartänze tanzt. Egal ob du schonmal g
 etanzt oder zwei linke Füße hast\, hier geht's um Spaß und Bewegung und
  zusammen lernen wir von Grund auf wie ihr euch im Takt bewegt!\n\nLenja\n
 Organisatorisches\nWir wohnen auf dem Gelände des Nordsee-Internats (camp
 ushus 6) in St. Peter-Ording. Die Zimmer sind mit Doppelstockbetten ausges
 tattet und es stehen Gemeinschafts-Einzel-Duschen zur Verfügung.\nDie Kü
 che der Internats-Mensa bietet abwechslungsreiche Mahlzeiten in Buffetform
  an. Ein vegetarisches Gericht steht immer zur Auswahl. Auf besondere Ern
 ährungsweisen kann nach Absprache eingegangen werden.\n\nDie Anreise erfo
 lgt am Freitag\, den 23. Januar 2026 zwischen 16:30 und 17:30 Uhr. Die Abr
 eise ist am 25. Januar 2026 nach dem Mittagessen geplant.\n\nDer Bahnhof S
 t. Peter-Ording Süd ist 20 Gehminuten vom campushus 6 entfernt.\nKosten\n
 In den Kosten ist die Übernachtung\, Frühstück\, Mittagesses und Abende
 ssen enthalten. Die Anreise erfolgt eigene Kosten.\nBettwäsche und Handt
 ücher sind mitzubringen oder gegen eine Gebühr von 11\,- € zu leihen.\
 nNoch Fragen?\nFragen werden gerne beantwortet\, Anregungen und Vorschläg
 e sind willkommen.\nAnsprechpartnerinnen: Eva Müller zum Hagen oder Lucas
  Nerlich (ju-spo@dghk-sh.info)
CATEGORIES:DGhK SH
LOCATION:campushus 6 - SPO\, Zum Karpfenteich 6\, Sankt Peter Ording\, 2582
 6\, Deutschland
GEO:54.295229;8.653965
X-APPLE-STRUCTURED-LOCATION;VALUE=URI;X-ADDRESS=Zum Karpfenteich 6\, Sankt 
 Peter Ording\, 25826\, Deutschland;X-APPLE-RADIUS=100;X-TITLE=campushus 6 
 - SPO:geo:54.295229,8.653965
END:VEVENT
BEGIN:VTIMEZONE
TZID:Europe/Berlin
X-LIC-LOCATION:Europe/Berlin
BEGIN:STANDARD
DTSTART:20251026T020000
TZOFFSETFROM:+0200
TZOFFSETTO:+0100
TZNAME:CET
END:STANDARD
END:VTIMEZONE
END:VCALENDAR