BEGIN:VCALENDAR
VERSION:2.0
PRODID:-//wp-events-plugin.com//7.2.3.1//EN
TZID:Europe/Berlin
X-WR-TIMEZONE:Europe/Berlin
BEGIN:VEVENT
UID:24@dghk-sh.info
DTSTART;TZID=Europe/Berlin:20251121T170000
DTEND;TZID=Europe/Berlin:20251123T130000
DTSTAMP:20251104T063719Z
URL:https://dghk-sh.info/events/kinderfreizeit-christianslyst/
SUMMARY:Kinderfreizeit Christianslyst
DESCRIPTION:Freizeit für Familien mit Kindern von 4 bis 11 Jahren in Chris
 tianslyst unter der Leitung von Eva Müller zum Hagen und Stefanie Nerlich
 .\nAuf die Kinder warten spannende MINT-Stationen\, ein Kreativ-Angebot un
 d die Möglichkeit\, Roboter zu programmieren. Die Kurse finden am Samstag
 vormittag\, -nachmittag sowie am Sonntagvormittag statt und werden vor Ort
  am Freitagabend gewählt.\nFür die Eltern steht am Samstagvormittag ein 
 Vortrag auf dem Programm. Die Nachmittage werden wir je nach Wetter\, Lust
  und Laune mit Kreativ-Angeboten\, Sport und Spiel in unserer Unterkunft g
 estalten. Das Haus verfügt über einen Tischtennisraum und weitläufige S
 portflächen.\n\nOrganisatorisches\nWir wohnen im Landschulheim Christians
 lyst (http://christianslyst.de/tysk-forside) in der Nähe von Süderbraru
 p. Alle Doppel- und Mehrbettzimmer sind mit einem Duschbad/WC ausgestattet
 .\nDie Küche des Hauses bietet abwechslungsreiche Mahlzeiten in Buffetfor
 m an. Ein vegetarisches Gericht steht immer zur Auswahl. Besondere Ernähr
 ungsweisen können nach vorheriger Anmeldung (mindestens 14 Tage vorher) b
 erücksichtigt werden.\nDie Anreise erfolgt am Freitag\, den 21. November\
 , zwischen 16 und 17 Uhr. Die Abreise ist am 23. November nach dem Mittage
 ssen und einer anschließenden Abschlussrunde geplant.\n\nAngebote für Ki
 nder\nThema 1: MINT für alle\nSo buchstabieren wir „MINT“:\nM steht f
 ür Matheknobeleien\, I\, wie Informatik\, steht für Binär-Code spielen\
 , N steht für Naturwissenschaftliche Experimente und T\, wie Technik\, st
 eht für Bauen und Konstruieren.\nAlle Kinder sind willkommen. Die Experim
 ente und Aufgaben sind vielfältig\, spannend und dem Vorwissen angepasst.
 \n\nThema 2: Kreatives\nLasst euch überraschen! Es wird für jeden etwas 
 dabei sein.\n\nThema 3: Programmieren mit dem Edison Roboter\nLass uns gem
 einsam mit den Edison Robots die Welt des Programmierens erkunden. Ziel is
 t es\, die Roboter mit Lego so zu erweitern\, dass sie wie echte Roboter a
 ussehen. Wir werden uns die Blöcke in Scratch erarbeiten und einen Plan m
 achen\, wie wir damit unsere Roboter in einer Arena gegeneinander antrete
 n lassen zu können. Dazu sind alle Mittel erlaubt\, die der Edison bietet
  und am Ende werden wie vielleicht einen Turniersieger haben.\nKinder ab 4
  Jahren sind willkommen.\n\nDie Kurswahl erfolgt vor Ort.\nDie Kurse wechs
 eln in der Regeln zwischen den drei Kurszeiten.\nSo kann jedes Kind an zwe
 i bis drei unterschiedlichen Kursen teilnehmen.\nAusschreibung\n\nDie Date
 nschutzerklärung für die Teilnahme an Veranstaltungen ist hier nachzules
 en.
CATEGORIES:DGhK SH
LOCATION:Christianslyst\, Christianslyst 1\, Nottfeld\, 24392\, Deutschland
GEO:54.618323;9.773599
X-APPLE-STRUCTURED-LOCATION;VALUE=URI;X-ADDRESS=Christianslyst 1\, Nottfeld
 \, 24392\, Deutschland;X-APPLE-RADIUS=100;X-TITLE=Christianslyst:geo:54.61
 8323,9.773599
END:VEVENT
BEGIN:VTIMEZONE
TZID:Europe/Berlin
X-LIC-LOCATION:Europe/Berlin
BEGIN:STANDARD
DTSTART:20251026T020000
TZOFFSETFROM:+0200
TZOFFSETTO:+0100
TZNAME:CET
END:STANDARD
END:VTIMEZONE
END:VCALENDAR